BEGIN:VCALENDAR
VERSION:2.0
PRODID:-//Polskie Stowarzyszenie Racjonalistów - ECPv5.16.3.1//NONSGML v1.0//EN
CALSCALE:GREGORIAN
METHOD:PUBLISH
X-WR-CALNAME:Polskie Stowarzyszenie Racjonalistów
X-ORIGINAL-URL:https://www.psr.org.pl
X-WR-CALDESC:Wydarzenia dla Polskie Stowarzyszenie Racjonalistów
REFRESH-INTERVAL;VALUE=DURATION:PT1H
X-Robots-Tag:noindex
X-PUBLISHED-TTL:PT1H
BEGIN:VTIMEZONE
TZID:UTC
BEGIN:STANDARD
TZOFFSETFROM:+0000
TZOFFSETTO:+0000
TZNAME:UTC
DTSTART:20230101T000000
END:STANDARD
END:VTIMEZONE
BEGIN:VEVENT
DTSTART;VALUE=DATE:20230202
DTEND;VALUE=DATE:20230203
DTSTAMP:20260420T071250
CREATED:20230125T144348Z
LAST-MODIFIED:20230125T144348Z
UID:5422-1675296000-1675382399@www.psr.org.pl
SUMMARY:1845 Urodził się Iwan Pawłowycz Puluj\, pionier stosowania promieni X do obrazowania w medycynie za pomocą tzw. „lampy Puluja”
DESCRIPTION:1845 Народився Іван Павлович Пулюй\, піонер використання Х-променів для візуалізації в медицині за допомогою т.зв. „Лампи Пулюя”
URL:https://www.psr.org.pl/wydarzenie/1845-urodzil-sie-iwan-pawlowycz-puluj-pionier-stosowania-promieni-x-do-obrazowania-w-medycynie-za-pomoca-tzw-lampy-puluja/
END:VEVENT
END:VCALENDAR