BEGIN:VCALENDAR
VERSION:2.0
PRODID:-//Polskie Stowarzyszenie Racjonalistów - ECPv5.16.3.1//NONSGML v1.0//EN
CALSCALE:GREGORIAN
METHOD:PUBLISH
X-ORIGINAL-URL:https://www.psr.org.pl
X-WR-CALDESC:Wydarzenia dla Polskie Stowarzyszenie Racjonalistów
REFRESH-INTERVAL;VALUE=DURATION:PT1H
X-Robots-Tag:noindex
X-PUBLISHED-TTL:PT1H
BEGIN:VTIMEZONE
TZID:UTC
BEGIN:STANDARD
TZOFFSETFROM:+0000
TZOFFSETTO:+0000
TZNAME:UTC
DTSTART:20230101T000000
END:STANDARD
END:VTIMEZONE
BEGIN:VEVENT
DTSTART;VALUE=DATE:20230216
DTEND;VALUE=DATE:20230217
DTSTAMP:20260422T101028
CREATED:20230126T131639Z
LAST-MODIFIED:20230126T131639Z
UID:5455-1676505600-1676591999@www.psr.org.pl
SUMMARY:1923 Howard Carter i George Herbert odkryli komorę grobową faraona Tutenchamona
DESCRIPTION:1923 Говард Картер та Джордж Герберт відкрили поховальну камеру фараона Тутанхамона
URL:https://www.psr.org.pl/wydarzenie/1923-howard-carter-i-george-herbert-odkryli-komore-grobowa-faraona-tutenchamona-2/
END:VEVENT
END:VCALENDAR