BEGIN:VCALENDAR
VERSION:2.0
PRODID:-//Polskie Stowarzyszenie Racjonalistów - ECPv5.16.3.1//NONSGML v1.0//EN
CALSCALE:GREGORIAN
METHOD:PUBLISH
X-WR-CALNAME:Polskie Stowarzyszenie Racjonalistów
X-ORIGINAL-URL:https://www.psr.org.pl
X-WR-CALDESC:Wydarzenia dla Polskie Stowarzyszenie Racjonalistów
REFRESH-INTERVAL;VALUE=DURATION:PT1H
X-Robots-Tag:noindex
X-PUBLISHED-TTL:PT1H
BEGIN:VTIMEZONE
TZID:UTC
BEGIN:STANDARD
TZOFFSETFROM:+0000
TZOFFSETTO:+0000
TZNAME:UTC
DTSTART:20230101T000000
END:STANDARD
END:VTIMEZONE
BEGIN:VEVENT
DTSTART;VALUE=DATE:20230222
DTEND;VALUE=DATE:20230223
DTSTAMP:20260420T071300
CREATED:20230126T132151Z
LAST-MODIFIED:20230126T132151Z
UID:5467-1677024000-1677110399@www.psr.org.pl
SUMMARY:1904 Argentyńczycy uruchomili stację Orcadas\, najstarszą stałą placówkę badawczą w Antarktyce
DESCRIPTION:1904 Аргентинці запустили станцію «Оркадас» – найстаріший постійний дослідницький об’єкт в Антарктиді
URL:https://www.psr.org.pl/wydarzenie/1904-argentynczycy-uruchomili-stacje-orcadas-najstarsza-stala-placowke-badawcza-w-antarktyce-2/
END:VEVENT
END:VCALENDAR