BEGIN:VCALENDAR
VERSION:2.0
PRODID:-//Polskie Stowarzyszenie Racjonalistów - ECPv5.16.3.1//NONSGML v1.0//EN
CALSCALE:GREGORIAN
METHOD:PUBLISH
X-ORIGINAL-URL:https://www.psr.org.pl
X-WR-CALDESC:Wydarzenia dla Polskie Stowarzyszenie Racjonalistów
REFRESH-INTERVAL;VALUE=DURATION:PT1H
X-Robots-Tag:noindex
X-PUBLISHED-TTL:PT1H
BEGIN:VTIMEZONE
TZID:UTC
BEGIN:STANDARD
TZOFFSETFROM:+0000
TZOFFSETTO:+0000
TZNAME:UTC
DTSTART:20230101T000000
END:STANDARD
END:VTIMEZONE
BEGIN:VEVENT
DTSTART;VALUE=DATE:20230228
DTEND;VALUE=DATE:20230301
DTSTAMP:20260419T055317
CREATED:20230126T132500Z
LAST-MODIFIED:20230126T132500Z
UID:5479-1677542400-1677628799@www.psr.org.pl
SUMMARY:1935 Wallace Carothers wynalazł nylon\, używany do produkcji lin\, rajstop\, szczoteczek do zębów i piłek do koszykówki
DESCRIPTION:1935 Воллес Карозерс винайшов нейлон\, що використовується для виготовлення мотузок\, колготок\, зубних щіток і баскетбольних м’ячів
URL:https://www.psr.org.pl/wydarzenie/1935-wallace-carothers-wynalazl-nylon-uzywany-do-produkcji-lin-rajstop-szczoteczek-do-zebow-i-pilek-do-koszykowki-2/
END:VEVENT
END:VCALENDAR