BEGIN:VCALENDAR
VERSION:2.0
PRODID:-//Polskie Stowarzyszenie Racjonalistów - ECPv5.16.3.1//NONSGML v1.0//EN
CALSCALE:GREGORIAN
METHOD:PUBLISH
X-WR-CALNAME:Polskie Stowarzyszenie Racjonalistów
X-ORIGINAL-URL:https://www.psr.org.pl
X-WR-CALDESC:Wydarzenia dla Polskie Stowarzyszenie Racjonalistów
REFRESH-INTERVAL;VALUE=DURATION:PT1H
X-Robots-Tag:noindex
X-PUBLISHED-TTL:PT1H
BEGIN:VTIMEZONE
TZID:UTC
BEGIN:STANDARD
TZOFFSETFROM:+0000
TZOFFSETTO:+0000
TZNAME:UTC
DTSTART:20230101T000000
END:STANDARD
END:VTIMEZONE
BEGIN:VEVENT
DTSTART;VALUE=DATE:20230304
DTEND;VALUE=DATE:20230305
DTSTAMP:20260420T035147
CREATED:20230126T132752Z
LAST-MODIFIED:20230126T132752Z
UID:5487-1677888000-1677974399@www.psr.org.pl
SUMMARY:1904 Urodził się George Gamow\, twórca modelu powstania jąder atomowych w Wielkim Wybuchu
DESCRIPTION:1904 Народився Георгій Гамов\, творець моделі утворення атомних ядер у Великому Вибуху
URL:https://www.psr.org.pl/wydarzenie/1904-urodzil-sie-george-gamow-tworca-modelu-powstania-jader-atomowych-w-wielkim-wybuchu/
END:VEVENT
END:VCALENDAR