BEGIN:VCALENDAR
VERSION:2.0
PRODID:-//Polskie Stowarzyszenie Racjonalistów - ECPv5.16.3.1//NONSGML v1.0//EN
CALSCALE:GREGORIAN
METHOD:PUBLISH
X-WR-CALNAME:Polskie Stowarzyszenie Racjonalistów
X-ORIGINAL-URL:https://www.psr.org.pl
X-WR-CALDESC:Wydarzenia dla Polskie Stowarzyszenie Racjonalistów
REFRESH-INTERVAL;VALUE=DURATION:PT1H
X-Robots-Tag:noindex
X-PUBLISHED-TTL:PT1H
BEGIN:VTIMEZONE
TZID:UTC
BEGIN:STANDARD
TZOFFSETFROM:+0000
TZOFFSETTO:+0000
TZNAME:UTC
DTSTART:20230101T000000
END:STANDARD
END:VTIMEZONE
BEGIN:VEVENT
DTSTART;VALUE=DATE:20230308
DTEND;VALUE=DATE:20230309
DTSTAMP:20260419T044745
CREATED:20230126T132943Z
LAST-MODIFIED:20230126T132943Z
UID:5495-1678233600-1678319999@www.psr.org.pl
SUMMARY:1910 Raymonde de Laroche jako pierwsza kobieta na świecie otrzymała licencję pilota
DESCRIPTION:1910 Раймонда де Ларош стала першою у світі жінкою\, що отримала ліцензію пілота
URL:https://www.psr.org.pl/wydarzenie/1910-raymonde-de-laroche-jako-pierwsza-kobieta-na-swiecie-otrzymala-licencje-pilota-2/
END:VEVENT
END:VCALENDAR