BEGIN:VCALENDAR
VERSION:2.0
PRODID:-//Polskie Stowarzyszenie Racjonalistów - ECPv5.16.3.1//NONSGML v1.0//EN
CALSCALE:GREGORIAN
METHOD:PUBLISH
X-ORIGINAL-URL:https://www.psr.org.pl
X-WR-CALDESC:Wydarzenia dla Polskie Stowarzyszenie Racjonalistów
REFRESH-INTERVAL;VALUE=DURATION:PT1H
X-Robots-Tag:noindex
X-PUBLISHED-TTL:PT1H
BEGIN:VTIMEZONE
TZID:UTC
BEGIN:STANDARD
TZOFFSETFROM:+0000
TZOFFSETTO:+0000
TZNAME:UTC
DTSTART:20230101T000000
END:STANDARD
END:VTIMEZONE
BEGIN:VEVENT
DTSTART;VALUE=DATE:20230309
DTEND;VALUE=DATE:20230310
DTSTAMP:20260420T040126
CREATED:20230126T133015Z
LAST-MODIFIED:20230126T133015Z
UID:5497-1678320000-1678406399@www.psr.org.pl
SUMMARY:1900 Urodził się Howard Aiken\, współtwórca jednej z pierwszych maszyn cyfrowych – komputera Harvard Mark I
DESCRIPTION:1900 Народився Говард Ейкен\, співтворець однієї з перших обчислювальних машин – комп’ютера «Гарвардський Марк I»
URL:https://www.psr.org.pl/wydarzenie/1900-urodzil-sie-howard-aiken-wspoltworca-jednej-z-pierwszych-maszyn-cyfrowych-komputera-harvard-mark-i-2/
END:VEVENT
END:VCALENDAR