BEGIN:VCALENDAR
VERSION:2.0
PRODID:-//Polskie Stowarzyszenie Racjonalistów - ECPv5.16.3.1//NONSGML v1.0//EN
CALSCALE:GREGORIAN
METHOD:PUBLISH
X-WR-CALNAME:Polskie Stowarzyszenie Racjonalistów
X-ORIGINAL-URL:https://www.psr.org.pl
X-WR-CALDESC:Wydarzenia dla Polskie Stowarzyszenie Racjonalistów
REFRESH-INTERVAL;VALUE=DURATION:PT1H
X-Robots-Tag:noindex
X-PUBLISHED-TTL:PT1H
BEGIN:VTIMEZONE
TZID:UTC
BEGIN:STANDARD
TZOFFSETFROM:+0000
TZOFFSETTO:+0000
TZNAME:UTC
DTSTART:20230101T000000
END:STANDARD
END:VTIMEZONE
BEGIN:VEVENT
DTSTART;VALUE=DATE:20230316
DTEND;VALUE=DATE:20230317
DTSTAMP:20260422T114434
CREATED:20230126T133401Z
LAST-MODIFIED:20230126T133401Z
UID:5511-1678924800-1679011199@www.psr.org.pl
SUMMARY:1901 Pierwsza linia tramwaju elektrycznego zastąpiła tramwaj konny w Krakowie
DESCRIPTION:1901 Кінний трамвай у Кракові замінено першою лінією електричного трамваю
URL:https://www.psr.org.pl/wydarzenie/1901-pierwsza-linia-tramwaju-elektrycznego-zastapila-tramwaj-konny-w-krakowie-2/
END:VEVENT
END:VCALENDAR