BEGIN:VCALENDAR
VERSION:2.0
PRODID:-//Polskie Stowarzyszenie Racjonalistów - ECPv5.16.3.1//NONSGML v1.0//EN
CALSCALE:GREGORIAN
METHOD:PUBLISH
X-WR-CALNAME:Polskie Stowarzyszenie Racjonalistów
X-ORIGINAL-URL:https://www.psr.org.pl
X-WR-CALDESC:Wydarzenia dla Polskie Stowarzyszenie Racjonalistów
REFRESH-INTERVAL;VALUE=DURATION:PT1H
X-Robots-Tag:noindex
X-PUBLISHED-TTL:PT1H
BEGIN:VTIMEZONE
TZID:UTC
BEGIN:STANDARD
TZOFFSETFROM:+0000
TZOFFSETTO:+0000
TZNAME:UTC
DTSTART:20230101T000000
END:STANDARD
END:VTIMEZONE
BEGIN:VEVENT
DTSTART;VALUE=DATE:20230317
DTEND;VALUE=DATE:20230318
DTSTAMP:20260420T035158
CREATED:20230126T133520Z
LAST-MODIFIED:20230126T133520Z
UID:5513-1679011200-1679097599@www.psr.org.pl
SUMMARY:1950 S. Thompson\, K. Street Jr.\, A. Ghiorso i G. Seaborg odkryli nowy pierwiastek chemiczny – kaliforn
DESCRIPTION:1950 С. Томпсон\, К. Стріт-мол.\, А. Гіорсо і Г. Сіборг відкрили новий хімічний елемент – каліфорній
URL:https://www.psr.org.pl/wydarzenie/1950-s-thompson-k-street-jr-a-ghiorso-i-g-seaborg-odkryli-nowy-pierwiastek-chemiczny-kaliforn-2/
END:VEVENT
END:VCALENDAR