BEGIN:VCALENDAR
VERSION:2.0
PRODID:-//Polskie Stowarzyszenie Racjonalistów - ECPv5.16.3.1//NONSGML v1.0//EN
CALSCALE:GREGORIAN
METHOD:PUBLISH
X-WR-CALNAME:Polskie Stowarzyszenie Racjonalistów
X-ORIGINAL-URL:https://www.psr.org.pl
X-WR-CALDESC:Wydarzenia dla Polskie Stowarzyszenie Racjonalistów
REFRESH-INTERVAL;VALUE=DURATION:PT1H
X-Robots-Tag:noindex
X-PUBLISHED-TTL:PT1H
BEGIN:VTIMEZONE
TZID:UTC
BEGIN:STANDARD
TZOFFSETFROM:+0000
TZOFFSETTO:+0000
TZNAME:UTC
DTSTART:20230101T000000
END:STANDARD
END:VTIMEZONE
BEGIN:VEVENT
DTSTART;VALUE=DATE:20230318
DTEND;VALUE=DATE:20230319
DTSTAMP:20260420T035320
CREATED:20230126T133626Z
LAST-MODIFIED:20230126T133626Z
UID:5515-1679097600-1679183999@www.psr.org.pl
SUMMARY:2011 Sonda MESSENGER weszła na orbitę Merkurego
DESCRIPTION:2011 Космічний зонд «Messenger» вийшов на орбіту Меркурія
URL:https://www.psr.org.pl/wydarzenie/2011-sonda-messenger-weszla-na-orbite-merkurego-2/
END:VEVENT
END:VCALENDAR