BEGIN:VCALENDAR
VERSION:2.0
PRODID:-//Polskie Stowarzyszenie Racjonalistów - ECPv5.16.3.1//NONSGML v1.0//EN
CALSCALE:GREGORIAN
METHOD:PUBLISH
X-WR-CALNAME:Polskie Stowarzyszenie Racjonalistów
X-ORIGINAL-URL:https://www.psr.org.pl
X-WR-CALDESC:Wydarzenia dla Polskie Stowarzyszenie Racjonalistów
REFRESH-INTERVAL;VALUE=DURATION:PT1H
X-Robots-Tag:noindex
X-PUBLISHED-TTL:PT1H
BEGIN:VTIMEZONE
TZID:UTC
BEGIN:STANDARD
TZOFFSETFROM:+0000
TZOFFSETTO:+0000
TZNAME:UTC
DTSTART:20230101T000000
END:STANDARD
END:VTIMEZONE
BEGIN:VEVENT
DTSTART;VALUE=DATE:20230322
DTEND;VALUE=DATE:20230323
DTSTAMP:20260420T035314
CREATED:20230126T133809Z
LAST-MODIFIED:20230126T133809Z
UID:5523-1679443200-1679529599@www.psr.org.pl
SUMMARY:1993 Na polskim rynku pojawił się popularny mikroprocesor Intel Pentium
DESCRIPTION:1993 На польському ринку з’явився популярний мікропроцесор Intel Pentium
URL:https://www.psr.org.pl/wydarzenie/1993-na-polskim-rynku-pojawil-sie-popularny-mikroprocesor-intel-pentium-2/
END:VEVENT
END:VCALENDAR