BEGIN:VCALENDAR
VERSION:2.0
PRODID:-//Polskie Stowarzyszenie Racjonalistów - ECPv5.16.3.1//NONSGML v1.0//EN
CALSCALE:GREGORIAN
METHOD:PUBLISH
X-WR-CALNAME:Polskie Stowarzyszenie Racjonalistów
X-ORIGINAL-URL:https://www.psr.org.pl
X-WR-CALDESC:Wydarzenia dla Polskie Stowarzyszenie Racjonalistów
REFRESH-INTERVAL;VALUE=DURATION:PT1H
X-Robots-Tag:noindex
X-PUBLISHED-TTL:PT1H
BEGIN:VTIMEZONE
TZID:UTC
BEGIN:STANDARD
TZOFFSETFROM:+0000
TZOFFSETTO:+0000
TZNAME:UTC
DTSTART:20230101T000000
END:STANDARD
END:VTIMEZONE
BEGIN:VEVENT
DTSTART;VALUE=DATE:20230325
DTEND;VALUE=DATE:20230326
DTSTAMP:20260420T035342
CREATED:20230126T133922Z
LAST-MODIFIED:20230126T133922Z
UID:5529-1679702400-1679788799@www.psr.org.pl
SUMMARY:1655 Christiaan Huygens odkrył Tytana\, największy księżyc Saturna
DESCRIPTION:1655 Крістіан Гюйґенс відкрив найбільший супутник Сатурна – Титан
URL:https://www.psr.org.pl/wydarzenie/1655-christiaan-huygens-odkryl-tytana-najwiekszy-ksiezyc-saturna-2/
END:VEVENT
END:VCALENDAR