BEGIN:VCALENDAR
VERSION:2.0
PRODID:-//Polskie Stowarzyszenie Racjonalistów - ECPv5.16.3.1//NONSGML v1.0//EN
CALSCALE:GREGORIAN
METHOD:PUBLISH
X-ORIGINAL-URL:https://www.psr.org.pl
X-WR-CALDESC:Wydarzenia dla Polskie Stowarzyszenie Racjonalistów
REFRESH-INTERVAL;VALUE=DURATION:PT1H
X-Robots-Tag:noindex
X-PUBLISHED-TTL:PT1H
BEGIN:VTIMEZONE
TZID:UTC
BEGIN:STANDARD
TZOFFSETFROM:+0000
TZOFFSETTO:+0000
TZNAME:UTC
DTSTART:20230101T000000
END:STANDARD
END:VTIMEZONE
BEGIN:VEVENT
DTSTART;VALUE=DATE:20230327
DTEND;VALUE=DATE:20230328
DTSTAMP:20260419T062532
CREATED:20230126T134319Z
LAST-MODIFIED:20230126T134319Z
UID:5542-1679875200-1679961599@www.psr.org.pl
SUMMARY:1902 Uruchomiono pierwszą linię tramwaju elektrycznego w Kalkucie\, w Indiach
DESCRIPTION:1902 Запущено першу лінію електричного трамваю в Калькутті\, Індія
URL:https://www.psr.org.pl/wydarzenie/1902-uruchomiono-pierwsza-linie-tramwaju-elektrycznego-w-kalkucie-w-indiach-2/
END:VEVENT
END:VCALENDAR