BEGIN:VCALENDAR
VERSION:2.0
PRODID:-//Polskie Stowarzyszenie Racjonalistów - ECPv5.16.3.1//NONSGML v1.0//EN
CALSCALE:GREGORIAN
METHOD:PUBLISH
X-ORIGINAL-URL:https://www.psr.org.pl
X-WR-CALDESC:Wydarzenia dla Polskie Stowarzyszenie Racjonalistów
REFRESH-INTERVAL;VALUE=DURATION:PT1H
X-Robots-Tag:noindex
X-PUBLISHED-TTL:PT1H
BEGIN:VTIMEZONE
TZID:UTC
BEGIN:STANDARD
TZOFFSETFROM:+0000
TZOFFSETTO:+0000
TZNAME:UTC
DTSTART:20230101T000000
END:STANDARD
END:VTIMEZONE
BEGIN:VEVENT
DTSTART;VALUE=DATE:20230329
DTEND;VALUE=DATE:20230330
DTSTAMP:20260420T034616
CREATED:20230126T134058Z
LAST-MODIFIED:20230126T134119Z
UID:5535-1680048000-1680134399@www.psr.org.pl
SUMMARY:1853 We Lwowie zapłonęła pierwsza na świecie lampa naftowa\, dzieło I. Łukasiewicza i A. Bratkowskiego
DESCRIPTION:1853 У Львові запалено першу у світі гасову лампу\, твір І. Лукасевича і А. Братковського
URL:https://www.psr.org.pl/wydarzenie/1853-we-lwowie-zaplonela-pierwsza-na-swiecie-lampa-naftowa-dzielo-i-lukasiewicza-i-a-bratkowskiego-2/
END:VEVENT
END:VCALENDAR