BEGIN:VCALENDAR
VERSION:2.0
PRODID:-//Polskie Stowarzyszenie Racjonalistów - ECPv5.16.3.1//NONSGML v1.0//EN
CALSCALE:GREGORIAN
METHOD:PUBLISH
X-WR-CALNAME:Polskie Stowarzyszenie Racjonalistów
X-ORIGINAL-URL:https://www.psr.org.pl
X-WR-CALDESC:Wydarzenia dla Polskie Stowarzyszenie Racjonalistów
REFRESH-INTERVAL;VALUE=DURATION:PT1H
X-Robots-Tag:noindex
X-PUBLISHED-TTL:PT1H
BEGIN:VTIMEZONE
TZID:UTC
BEGIN:STANDARD
TZOFFSETFROM:+0000
TZOFFSETTO:+0000
TZNAME:UTC
DTSTART:20230101T000000
END:STANDARD
END:VTIMEZONE
BEGIN:VEVENT
DTSTART;VALUE=DATE:20230330
DTEND;VALUE=DATE:20230331
DTSTAMP:20260419T044556
CREATED:20230126T134141Z
LAST-MODIFIED:20230126T134141Z
UID:5538-1680134400-1680220799@www.psr.org.pl
SUMMARY:1892 Urodził się Stefan Banach\, jeden z przedstawicieli lwowskiej szkoły matematycznej
DESCRIPTION:1892 Народився Стефан Банах\, один із засновників Львівської математичної школи
URL:https://www.psr.org.pl/wydarzenie/1892-urodzil-sie-stefan-banach-jeden-z-przedstawicieli-lwowskiej-szkoly-matematycznej-2/
END:VEVENT
END:VCALENDAR