BEGIN:VCALENDAR
VERSION:2.0
PRODID:-//Polskie Stowarzyszenie Racjonalistów - ECPv5.16.3.1//NONSGML v1.0//EN
CALSCALE:GREGORIAN
METHOD:PUBLISH
X-WR-CALNAME:Polskie Stowarzyszenie Racjonalistów
X-ORIGINAL-URL:https://www.psr.org.pl
X-WR-CALDESC:Wydarzenia dla Polskie Stowarzyszenie Racjonalistów
REFRESH-INTERVAL;VALUE=DURATION:PT1H
X-Robots-Tag:noindex
X-PUBLISHED-TTL:PT1H
BEGIN:VTIMEZONE
TZID:UTC
BEGIN:STANDARD
TZOFFSETFROM:+0000
TZOFFSETTO:+0000
TZNAME:UTC
DTSTART:20230101T000000
END:STANDARD
END:VTIMEZONE
BEGIN:VEVENT
DTSTART;VALUE=DATE:20230402
DTEND;VALUE=DATE:20230403
DTSTAMP:20260419T124754
CREATED:20230126T141852Z
LAST-MODIFIED:20230126T141852Z
UID:5546-1680393600-1680479999@www.psr.org.pl
SUMMARY:1647 Urodziła się Maria Sibylla Merian\, malarka i pionierska badaczka cyklu rozwojowego owadów
DESCRIPTION:1647 Народилася Марія Сибілла Меріан\, художниця\, піонер- дослідниця циклу розвитку комахи
URL:https://www.psr.org.pl/wydarzenie/1647-urodzila-sie-maria-sibylla-merian-malarka-i-pionierska-badaczka-cyklu-rozwojowego-owadow-2/
END:VEVENT
END:VCALENDAR