BEGIN:VCALENDAR
VERSION:2.0
PRODID:-//Polskie Stowarzyszenie Racjonalistów - ECPv5.16.3.1//NONSGML v1.0//EN
CALSCALE:GREGORIAN
METHOD:PUBLISH
X-WR-CALNAME:Polskie Stowarzyszenie Racjonalistów
X-ORIGINAL-URL:https://www.psr.org.pl
X-WR-CALDESC:Wydarzenia dla Polskie Stowarzyszenie Racjonalistów
REFRESH-INTERVAL;VALUE=DURATION:PT1H
X-Robots-Tag:noindex
X-PUBLISHED-TTL:PT1H
BEGIN:VTIMEZONE
TZID:UTC
BEGIN:STANDARD
TZOFFSETFROM:+0000
TZOFFSETTO:+0000
TZNAME:UTC
DTSTART:20230101T000000
END:STANDARD
END:VTIMEZONE
BEGIN:VEVENT
DTSTART;VALUE=DATE:20230404
DTEND;VALUE=DATE:20230405
DTSTAMP:20260420T034534
CREATED:20230126T141959Z
LAST-MODIFIED:20230126T142017Z
UID:5550-1680566400-1680652799@www.psr.org.pl
SUMMARY:1975 Bill Gates i Paul Allen założyli firmę Microsoft
DESCRIPTION:1975 Білл Гейтс і Пол Аллен заснували компанію Microsoft
URL:https://www.psr.org.pl/wydarzenie/1975-bill-gates-i-paul-allen-zalozyli-firme-microsoft-2/
END:VEVENT
END:VCALENDAR