BEGIN:VCALENDAR
VERSION:2.0
PRODID:-//Polskie Stowarzyszenie Racjonalistów - ECPv5.16.3.1//NONSGML v1.0//EN
CALSCALE:GREGORIAN
METHOD:PUBLISH
X-WR-CALNAME:Polskie Stowarzyszenie Racjonalistów
X-ORIGINAL-URL:https://www.psr.org.pl
X-WR-CALDESC:Wydarzenia dla Polskie Stowarzyszenie Racjonalistów
REFRESH-INTERVAL;VALUE=DURATION:PT1H
X-Robots-Tag:noindex
X-PUBLISHED-TTL:PT1H
BEGIN:VTIMEZONE
TZID:UTC
BEGIN:STANDARD
TZOFFSETFROM:+0000
TZOFFSETTO:+0000
TZNAME:UTC
DTSTART:20230101T000000
END:STANDARD
END:VTIMEZONE
BEGIN:VEVENT
DTSTART;VALUE=DATE:20230409
DTEND;VALUE=DATE:20230410
DTSTAMP:20260420T034554
CREATED:20230127T125830Z
LAST-MODIFIED:20230127T125830Z
UID:5561-1680998400-1681084799@www.psr.org.pl
SUMMARY:1770 Urodził się Thomas Johann Seebeck – odkrywca zjawiska termoelektrycznego i prekursor fotografii kolorowej
DESCRIPTION:1770 Народився Томас Йоганн Зеєбек – першовідкривач явища термоелектрики\, який зробив внесок у появу кольорової фотографії
URL:https://www.psr.org.pl/wydarzenie/1770-urodzil-sie-thomas-johann-seebeck-odkrywca-zjawiska-termoelektrycznego-i-prekursor-fotografii-kolorowej-2/
END:VEVENT
END:VCALENDAR