BEGIN:VCALENDAR
VERSION:2.0
PRODID:-//Polskie Stowarzyszenie Racjonalistów - ECPv5.16.3.1//NONSGML v1.0//EN
CALSCALE:GREGORIAN
METHOD:PUBLISH
X-WR-CALNAME:Polskie Stowarzyszenie Racjonalistów
X-ORIGINAL-URL:https://www.psr.org.pl
X-WR-CALDESC:Wydarzenia dla Polskie Stowarzyszenie Racjonalistów
REFRESH-INTERVAL;VALUE=DURATION:PT1H
X-Robots-Tag:noindex
X-PUBLISHED-TTL:PT1H
BEGIN:VTIMEZONE
TZID:UTC
BEGIN:STANDARD
TZOFFSETFROM:+0000
TZOFFSETTO:+0000
TZNAME:UTC
DTSTART:20230101T000000
END:STANDARD
END:VTIMEZONE
BEGIN:VEVENT
DTSTART;VALUE=DATE:20230412
DTEND;VALUE=DATE:20230413
DTSTAMP:20260420T021053
CREATED:20230127T125955Z
LAST-MODIFIED:20230127T125955Z
UID:5567-1681257600-1681343999@www.psr.org.pl
SUMMARY:1981 Pierwszy wahadłowiec\, o nazwie Columbia\, wyruszył w kosmos
DESCRIPTION:1981 Перший шаттл «Колумбія» вирушив у космос
URL:https://www.psr.org.pl/wydarzenie/1981-pierwszy-wahadlowiec-o-nazwie-columbia-wyruszyl-w-kosmos-2/
END:VEVENT
END:VCALENDAR