BEGIN:VCALENDAR
VERSION:2.0
PRODID:-//Polskie Stowarzyszenie Racjonalistów - ECPv5.16.3.1//NONSGML v1.0//EN
CALSCALE:GREGORIAN
METHOD:PUBLISH
X-ORIGINAL-URL:https://www.psr.org.pl
X-WR-CALDESC:Wydarzenia dla Polskie Stowarzyszenie Racjonalistów
REFRESH-INTERVAL;VALUE=DURATION:PT1H
X-Robots-Tag:noindex
X-PUBLISHED-TTL:PT1H
BEGIN:VTIMEZONE
TZID:UTC
BEGIN:STANDARD
TZOFFSETFROM:+0000
TZOFFSETTO:+0000
TZNAME:UTC
DTSTART:20230101T000000
END:STANDARD
END:VTIMEZONE
BEGIN:VEVENT
DTSTART;VALUE=DATE:20230414
DTEND;VALUE=DATE:20230415
DTSTAMP:20260420T021438
CREATED:20230127T130048Z
LAST-MODIFIED:20230127T130048Z
UID:5571-1681430400-1681516799@www.psr.org.pl
SUMMARY:1896 Bracia William i John Kellogg opatentowali płatki kukurydziane
DESCRIPTION:1896 Брати Вілл та Джон Келлог запатентували кукурудзяні пластівці
URL:https://www.psr.org.pl/wydarzenie/1896-bracia-william-i-john-kellogg-opatentowali-platki-kukurydziane-2/
END:VEVENT
END:VCALENDAR