BEGIN:VCALENDAR
VERSION:2.0
PRODID:-//Polskie Stowarzyszenie Racjonalistów - ECPv5.16.3.1//NONSGML v1.0//EN
CALSCALE:GREGORIAN
METHOD:PUBLISH
X-WR-CALNAME:Polskie Stowarzyszenie Racjonalistów
X-ORIGINAL-URL:https://www.psr.org.pl
X-WR-CALDESC:Wydarzenia dla Polskie Stowarzyszenie Racjonalistów
REFRESH-INTERVAL;VALUE=DURATION:PT1H
X-Robots-Tag:noindex
X-PUBLISHED-TTL:PT1H
BEGIN:VTIMEZONE
TZID:UTC
BEGIN:STANDARD
TZOFFSETFROM:+0000
TZOFFSETTO:+0000
TZNAME:UTC
DTSTART:20230101T000000
END:STANDARD
END:VTIMEZONE
BEGIN:VEVENT
DTSTART;VALUE=DATE:20230417
DTEND;VALUE=DATE:20230418
DTSTAMP:20260420T020348
CREATED:20230127T130201Z
LAST-MODIFIED:20230127T130214Z
UID:5577-1681689600-1681775999@www.psr.org.pl
SUMMARY:1970 Moduł księżycowy Apollo 13 bezpiecznie zwodował na Pacyfiku po nieudanej misji
DESCRIPTION:1970 Після невдалої місії місячний модуль «Аполлон-13» успішно приводнився у Тихому океані
URL:https://www.psr.org.pl/wydarzenie/1970-modul-ksiezycowy-apollo-13-bezpiecznie-zwodowal-na-pacyfiku-po-nieudanej-misji-2/
END:VEVENT
END:VCALENDAR