BEGIN:VCALENDAR
VERSION:2.0
PRODID:-//Polskie Stowarzyszenie Racjonalistów - ECPv5.16.3.1//NONSGML v1.0//EN
CALSCALE:GREGORIAN
METHOD:PUBLISH
X-WR-CALNAME:Polskie Stowarzyszenie Racjonalistów
X-ORIGINAL-URL:https://www.psr.org.pl
X-WR-CALDESC:Wydarzenia dla Polskie Stowarzyszenie Racjonalistów
REFRESH-INTERVAL;VALUE=DURATION:PT1H
X-Robots-Tag:noindex
X-PUBLISHED-TTL:PT1H
BEGIN:VTIMEZONE
TZID:UTC
BEGIN:STANDARD
TZOFFSETFROM:+0000
TZOFFSETTO:+0000
TZNAME:UTC
DTSTART:20230101T000000
END:STANDARD
END:VTIMEZONE
BEGIN:VEVENT
DTSTART;VALUE=DATE:20230419
DTEND;VALUE=DATE:20230420
DTSTAMP:20260419T123400
CREATED:20230127T130315Z
LAST-MODIFIED:20230127T130315Z
UID:5581-1681862400-1681948799@www.psr.org.pl
SUMMARY:1971 Wyniesiono na orbitę radziecką stację kosmiczną Salut 1
DESCRIPTION:1971 Виведено на орбіту радянську космічну станцію «Салют-1»
URL:https://www.psr.org.pl/wydarzenie/1971-wyniesiono-na-orbite-radziecka-stacje-kosmiczna-salut-1-2/
END:VEVENT
END:VCALENDAR