BEGIN:VCALENDAR
VERSION:2.0
PRODID:-//Polskie Stowarzyszenie Racjonalistów - ECPv5.16.3.1//NONSGML v1.0//EN
CALSCALE:GREGORIAN
METHOD:PUBLISH
X-WR-CALNAME:Polskie Stowarzyszenie Racjonalistów
X-ORIGINAL-URL:https://www.psr.org.pl
X-WR-CALDESC:Wydarzenia dla Polskie Stowarzyszenie Racjonalistów
REFRESH-INTERVAL;VALUE=DURATION:PT1H
X-Robots-Tag:noindex
X-PUBLISHED-TTL:PT1H
BEGIN:VTIMEZONE
TZID:UTC
BEGIN:STANDARD
TZOFFSETFROM:+0000
TZOFFSETTO:+0000
TZNAME:UTC
DTSTART:20230101T000000
END:STANDARD
END:VTIMEZONE
BEGIN:VEVENT
DTSTART;VALUE=DATE:20230604
DTEND;VALUE=DATE:20230605
DTSTAMP:20260419T225828
CREATED:20230127T143324Z
LAST-MODIFIED:20230127T143324Z
UID:5673-1685836800-1685923199@www.psr.org.pl
SUMMARY:1783 Bracia Montgolfier zaprezentowali publiczności balon na ogrzane powietrze\, który wzniósł się na wysokość 2 km
DESCRIPTION:1783 Брати Монтгольф’є представили публіці кулю на гарячому повітря\, яка піднялася до висоти 2 км
URL:https://www.psr.org.pl/wydarzenie/1783-bracia-montgolfier-zaprezentowali-publicznosci-balon-na-ogrzane-powietrze-ktory-wzniosl-sie-na-wysokosc-2-km-2/
END:VEVENT
END:VCALENDAR