BEGIN:VCALENDAR
VERSION:2.0
PRODID:-//Polskie Stowarzyszenie Racjonalistów - ECPv5.16.3.1//NONSGML v1.0//EN
CALSCALE:GREGORIAN
METHOD:PUBLISH
X-WR-CALNAME:Polskie Stowarzyszenie Racjonalistów
X-ORIGINAL-URL:https://www.psr.org.pl
X-WR-CALDESC:Wydarzenia dla Polskie Stowarzyszenie Racjonalistów
REFRESH-INTERVAL;VALUE=DURATION:PT1H
X-Robots-Tag:noindex
X-PUBLISHED-TTL:PT1H
BEGIN:VTIMEZONE
TZID:UTC
BEGIN:STANDARD
TZOFFSETFROM:+0000
TZOFFSETTO:+0000
TZNAME:UTC
DTSTART:20230101T000000
END:STANDARD
END:VTIMEZONE
BEGIN:VEVENT
DTSTART;VALUE=DATE:20230605
DTEND;VALUE=DATE:20230606
DTSTAMP:20260419T225917
CREATED:20230131T135513Z
LAST-MODIFIED:20230131T135513Z
UID:5675-1685923200-1686009599@www.psr.org.pl
SUMMARY:1875 Otwarto Muzeum Przemysłu i Rolnictwa w Warszawie (muzeum historii techniki\, zniszczone w 1939 roku)
DESCRIPTION:1875 Відкрито Музей Промисловості та Сільського Господарства у Варшаві (Музей історії техніки\, знищений у 1939 р.)
URL:https://www.psr.org.pl/wydarzenie/1875-otwarto-muzeum-przemyslu-i-rolnictwa-w-warszawie-muzeum-historii-techniki-zniszczone-w-1939-roku-2/
END:VEVENT
END:VCALENDAR