BEGIN:VCALENDAR
VERSION:2.0
PRODID:-//Polskie Stowarzyszenie Racjonalistów - ECPv5.16.3.1//NONSGML v1.0//EN
CALSCALE:GREGORIAN
METHOD:PUBLISH
X-ORIGINAL-URL:https://www.psr.org.pl
X-WR-CALDESC:Wydarzenia dla Polskie Stowarzyszenie Racjonalistów
REFRESH-INTERVAL;VALUE=DURATION:PT1H
X-Robots-Tag:noindex
X-PUBLISHED-TTL:PT1H
BEGIN:VTIMEZONE
TZID:UTC
BEGIN:STANDARD
TZOFFSETFROM:+0000
TZOFFSETTO:+0000
TZNAME:UTC
DTSTART:20230101T000000
END:STANDARD
END:VTIMEZONE
BEGIN:VEVENT
DTSTART;VALUE=DATE:20230608
DTEND;VALUE=DATE:20230609
DTSTAMP:20260420T003437
CREATED:20230131T135652Z
LAST-MODIFIED:20230131T135652Z
UID:5681-1686182400-1686268799@www.psr.org.pl
SUMMARY:2008 Sonda New Horizons\, wysłana w 2006 roku celem zbadania Plutona\, minęła orbitę Saturna
DESCRIPTION:2008 Зонд «Нью- Горайзонс»\, у 2006 році відправлений на дослідження Плутона\, проминув орбіту Сатурна
URL:https://www.psr.org.pl/wydarzenie/2008-sonda-new-horizons-wyslana-w-2006-roku-celem-zbadania-plutona-minela-orbite-saturna-2/
END:VEVENT
END:VCALENDAR