BEGIN:VCALENDAR
VERSION:2.0
PRODID:-//Polskie Stowarzyszenie Racjonalistów - ECPv5.16.3.1//NONSGML v1.0//EN
CALSCALE:GREGORIAN
METHOD:PUBLISH
X-ORIGINAL-URL:https://www.psr.org.pl
X-WR-CALDESC:Wydarzenia dla Polskie Stowarzyszenie Racjonalistów
REFRESH-INTERVAL;VALUE=DURATION:PT1H
X-Robots-Tag:noindex
X-PUBLISHED-TTL:PT1H
BEGIN:VTIMEZONE
TZID:UTC
BEGIN:STANDARD
TZOFFSETFROM:+0000
TZOFFSETTO:+0000
TZNAME:UTC
DTSTART:20230101T000000
END:STANDARD
END:VTIMEZONE
BEGIN:VEVENT
DTSTART;VALUE=DATE:20230613
DTEND;VALUE=DATE:20230614
DTSTAMP:20260420T003737
CREATED:20230131T135917Z
LAST-MODIFIED:20230131T135917Z
UID:5691-1686614400-1686700799@www.psr.org.pl
SUMMARY:1872 Urodził się Jan Szczepanik – wynalazca telektroskopu (telewizji elektrycznej)\, kolorowej kliszy filmowej i filmu dźwiękowego
DESCRIPTION:1872 Народився Ян Щепаник\, винахідник телектроскопа (електричного телевізора)\, кольорового і звукового кінематографів
URL:https://www.psr.org.pl/wydarzenie/1872-urodzil-sie-jan-szczepanik-wynalazca-telektroskopu-telewizji-elektrycznej-kolorowej-kliszy-filmowej-i-filmu-dzwiekowego-2/
END:VEVENT
END:VCALENDAR