BEGIN:VCALENDAR
VERSION:2.0
PRODID:-//Polskie Stowarzyszenie Racjonalistów - ECPv5.16.3.1//NONSGML v1.0//EN
CALSCALE:GREGORIAN
METHOD:PUBLISH
X-WR-CALNAME:Polskie Stowarzyszenie Racjonalistów
X-ORIGINAL-URL:https://www.psr.org.pl
X-WR-CALDESC:Wydarzenia dla Polskie Stowarzyszenie Racjonalistów
REFRESH-INTERVAL;VALUE=DURATION:PT1H
X-Robots-Tag:noindex
X-PUBLISHED-TTL:PT1H
BEGIN:VTIMEZONE
TZID:UTC
BEGIN:STANDARD
TZOFFSETFROM:+0000
TZOFFSETTO:+0000
TZNAME:UTC
DTSTART:20230101T000000
END:STANDARD
END:VTIMEZONE
BEGIN:VEVENT
DTSTART;VALUE=DATE:20230618
DTEND;VALUE=DATE:20230619
DTSTAMP:20260420T021213
CREATED:20230131T140130Z
LAST-MODIFIED:20230131T140130Z
UID:5701-1687046400-1687132799@www.psr.org.pl
SUMMARY:1992 Uruchomiono pierwszą polską sieć telefonii komórkowej\, PTK Centertel
DESCRIPTION:1992 Запущено першу польську мережу мобільного зв’язку PTK Centertel
URL:https://www.psr.org.pl/wydarzenie/1992-uruchomiono-pierwsza-polska-siec-telefonii-komorkowej-ptk-centertel-2/
END:VEVENT
END:VCALENDAR