BEGIN:VCALENDAR
VERSION:2.0
PRODID:-//Polskie Stowarzyszenie Racjonalistów - ECPv5.16.3.1//NONSGML v1.0//EN
CALSCALE:GREGORIAN
METHOD:PUBLISH
X-ORIGINAL-URL:https://www.psr.org.pl
X-WR-CALDESC:Wydarzenia dla Polskie Stowarzyszenie Racjonalistów
REFRESH-INTERVAL;VALUE=DURATION:PT1H
X-Robots-Tag:noindex
X-PUBLISHED-TTL:PT1H
BEGIN:VTIMEZONE
TZID:UTC
BEGIN:STANDARD
TZOFFSETFROM:+0000
TZOFFSETTO:+0000
TZNAME:UTC
DTSTART:20230101T000000
END:STANDARD
END:VTIMEZONE
BEGIN:VEVENT
DTSTART;VALUE=DATE:20230620
DTEND;VALUE=DATE:20230621
DTSTAMP:20260419T225932
CREATED:20230131T140238Z
LAST-MODIFIED:20230131T140238Z
UID:5705-1687219200-1687305599@www.psr.org.pl
SUMMARY:1916 Urodziła się Aniela DziewulskaŁosiowa\, astronomka\, założycielka stacji pomiarów ozonu atmosferycznego w Belsku
DESCRIPTION:1916 Народилася Анєла Дзевульська-Лосьова\, астрономка\, засновниця станції вимірювання атмосферного озону у Бельську
URL:https://www.psr.org.pl/wydarzenie/1916-urodzila-sie-aniela-dziewulskalosiowa-astronomka-zalozycielka-stacji-pomiarow-ozonu-atmosferycznego-w-belsku/
END:VEVENT
END:VCALENDAR