BEGIN:VCALENDAR
VERSION:2.0
PRODID:-//Polskie Stowarzyszenie Racjonalistów - ECPv5.16.3.1//NONSGML v1.0//EN
CALSCALE:GREGORIAN
METHOD:PUBLISH
X-ORIGINAL-URL:https://www.psr.org.pl
X-WR-CALDESC:Wydarzenia dla Polskie Stowarzyszenie Racjonalistów
REFRESH-INTERVAL;VALUE=DURATION:PT1H
X-Robots-Tag:noindex
X-PUBLISHED-TTL:PT1H
BEGIN:VTIMEZONE
TZID:UTC
BEGIN:STANDARD
TZOFFSETFROM:+0000
TZOFFSETTO:+0000
TZNAME:UTC
DTSTART:20230101T000000
END:STANDARD
END:VTIMEZONE
BEGIN:VEVENT
DTSTART;VALUE=DATE:20230622
DTEND;VALUE=DATE:20230623
DTSTAMP:20260420T003754
CREATED:20230131T140335Z
LAST-MODIFIED:20230131T140335Z
UID:5709-1687392000-1687478399@www.psr.org.pl
SUMMARY:1978 James Christy odkrył Charona\, księżyc Plutona
DESCRIPTION:1978 Джеймс Крісті відкрив супутник Плутонa – Харон
URL:https://www.psr.org.pl/wydarzenie/1978-james-christy-odkryl-charona-ksiezyc-plutona-2/
END:VEVENT
END:VCALENDAR