BEGIN:VCALENDAR
VERSION:2.0
PRODID:-//Polskie Stowarzyszenie Racjonalistów - ECPv5.16.3.1//NONSGML v1.0//EN
CALSCALE:GREGORIAN
METHOD:PUBLISH
X-WR-CALNAME:Polskie Stowarzyszenie Racjonalistów
X-ORIGINAL-URL:https://www.psr.org.pl
X-WR-CALDESC:Wydarzenia dla Polskie Stowarzyszenie Racjonalistów
REFRESH-INTERVAL;VALUE=DURATION:PT1H
X-Robots-Tag:noindex
X-PUBLISHED-TTL:PT1H
BEGIN:VTIMEZONE
TZID:UTC
BEGIN:STANDARD
TZOFFSETFROM:+0000
TZOFFSETTO:+0000
TZNAME:UTC
DTSTART:20230101T000000
END:STANDARD
END:VTIMEZONE
BEGIN:VEVENT
DTSTART;VALUE=DATE:20230630
DTEND;VALUE=DATE:20230701
DTSTAMP:20260419T051731
CREATED:20230131T140652Z
LAST-MODIFIED:20230131T140652Z
UID:5725-1688083200-1688169599@www.psr.org.pl
SUMMARY:1937 W Londynie wdrożono pierwszy system telefonicznych numerów alarmowych
DESCRIPTION:1937 В Лондоні запроваджено першу систему екстрених телефонних номерів
URL:https://www.psr.org.pl/wydarzenie/1937-w-londynie-wdrozono-pierwszy-system-telefonicznych-numerow-alarmowych-2/
END:VEVENT
END:VCALENDAR