BEGIN:VCALENDAR
VERSION:2.0
PRODID:-//Polskie Stowarzyszenie Racjonalistów - ECPv5.16.3.1//NONSGML v1.0//EN
CALSCALE:GREGORIAN
METHOD:PUBLISH
X-WR-CALNAME:Polskie Stowarzyszenie Racjonalistów
X-ORIGINAL-URL:https://www.psr.org.pl
X-WR-CALDESC:Wydarzenia dla Polskie Stowarzyszenie Racjonalistów
REFRESH-INTERVAL;VALUE=DURATION:PT1H
X-Robots-Tag:noindex
X-PUBLISHED-TTL:PT1H
BEGIN:VTIMEZONE
TZID:UTC
BEGIN:STANDARD
TZOFFSETFROM:+0000
TZOFFSETTO:+0000
TZNAME:UTC
DTSTART:20230101T000000
END:STANDARD
END:VTIMEZONE
BEGIN:VEVENT
DTSTART;VALUE=DATE:20230702
DTEND;VALUE=DATE:20230703
DTSTAMP:20260419T225751
CREATED:20230131T140803Z
LAST-MODIFIED:20230131T140803Z
UID:5729-1688256000-1688342399@www.psr.org.pl
SUMMARY:1698 Thomas Savery opatentował jeden z pierwszych silników parowych
DESCRIPTION:1698 Томас Савері запатентував один із перших парових двигунів
URL:https://www.psr.org.pl/wydarzenie/1698-thomas-savery-opatentowal-jeden-z-pierwszych-silnikow-parowych-2/
END:VEVENT
END:VCALENDAR