BEGIN:VCALENDAR
VERSION:2.0
PRODID:-//Polskie Stowarzyszenie Racjonalistów - ECPv5.16.3.1//NONSGML v1.0//EN
CALSCALE:GREGORIAN
METHOD:PUBLISH
X-ORIGINAL-URL:https://www.psr.org.pl
X-WR-CALDESC:Wydarzenia dla Polskie Stowarzyszenie Racjonalistów
REFRESH-INTERVAL;VALUE=DURATION:PT1H
X-Robots-Tag:noindex
X-PUBLISHED-TTL:PT1H
BEGIN:VTIMEZONE
TZID:UTC
BEGIN:STANDARD
TZOFFSETFROM:+0000
TZOFFSETTO:+0000
TZNAME:UTC
DTSTART:20230101T000000
END:STANDARD
END:VTIMEZONE
BEGIN:VEVENT
DTSTART;VALUE=DATE:20230704
DTEND;VALUE=DATE:20230705
DTSTAMP:20260420T003454
CREATED:20230131T140857Z
LAST-MODIFIED:20230131T140857Z
UID:5733-1688428800-1688515199@www.psr.org.pl
SUMMARY:2012 Potwierdzono odkrycie bozonu Higgsa
DESCRIPTION:2012 Підтверджено відкриття Бозона Хіггса
URL:https://www.psr.org.pl/wydarzenie/2012-potwierdzono-odkrycie-bozonu-higgsa-2/
END:VEVENT
END:VCALENDAR