BEGIN:VCALENDAR
VERSION:2.0
PRODID:-//Polskie Stowarzyszenie Racjonalistów - ECPv5.16.3.1//NONSGML v1.0//EN
CALSCALE:GREGORIAN
METHOD:PUBLISH
X-ORIGINAL-URL:https://www.psr.org.pl
X-WR-CALDESC:Wydarzenia dla Polskie Stowarzyszenie Racjonalistów
REFRESH-INTERVAL;VALUE=DURATION:PT1H
X-Robots-Tag:noindex
X-PUBLISHED-TTL:PT1H
BEGIN:VTIMEZONE
TZID:UTC
BEGIN:STANDARD
TZOFFSETFROM:+0000
TZOFFSETTO:+0000
TZNAME:UTC
DTSTART:20230101T000000
END:STANDARD
END:VTIMEZONE
BEGIN:VEVENT
DTSTART;VALUE=DATE:20230709
DTEND;VALUE=DATE:20230710
DTSTAMP:20260420T021555
CREATED:20230131T141120Z
LAST-MODIFIED:20230131T141120Z
UID:5743-1688860800-1688947199@www.psr.org.pl
SUMMARY:1926 Urodził się Benjamin Mottelson – fizyk jądrowy\, współtwórca kolektywnego modelu jądra atomowego
DESCRIPTION:1926 Народився Бенджамін Моттельсон\, ядерний фізик\, співавтор колективної моделі атомного ядра
URL:https://www.psr.org.pl/wydarzenie/1926-urodzil-sie-benjamin-mottelson-fizyk-jadrowy-wspoltworca-kolektywnego-modelu-jadra-atomowego-2/
END:VEVENT
END:VCALENDAR