BEGIN:VCALENDAR
VERSION:2.0
PRODID:-//Polskie Stowarzyszenie Racjonalistów - ECPv5.16.3.1//NONSGML v1.0//EN
CALSCALE:GREGORIAN
METHOD:PUBLISH
X-WR-CALNAME:Polskie Stowarzyszenie Racjonalistów
X-ORIGINAL-URL:https://www.psr.org.pl
X-WR-CALDESC:Wydarzenia dla Polskie Stowarzyszenie Racjonalistów
REFRESH-INTERVAL;VALUE=DURATION:PT1H
X-Robots-Tag:noindex
X-PUBLISHED-TTL:PT1H
BEGIN:VTIMEZONE
TZID:UTC
BEGIN:STANDARD
TZOFFSETFROM:+0000
TZOFFSETTO:+0000
TZNAME:UTC
DTSTART:20230101T000000
END:STANDARD
END:VTIMEZONE
BEGIN:VEVENT
DTSTART;VALUE=DATE:20230717
DTEND;VALUE=DATE:20230718
DTSTAMP:20260420T020347
CREATED:20230201T130020Z
LAST-MODIFIED:20230201T130020Z
UID:5761-1689552000-1689638399@www.psr.org.pl
SUMMARY:1852 Do Gdańska wjechał pierwszy pociąg
DESCRIPTION:1852 У Гданськ прибув перший потяг
URL:https://www.psr.org.pl/wydarzenie/1852-do-gdanska-wjechal-pierwszy-pociag-2/
END:VEVENT
END:VCALENDAR