BEGIN:VCALENDAR
VERSION:2.0
PRODID:-//Polskie Stowarzyszenie Racjonalistów - ECPv5.16.3.1//NONSGML v1.0//EN
CALSCALE:GREGORIAN
METHOD:PUBLISH
X-ORIGINAL-URL:https://www.psr.org.pl
X-WR-CALDESC:Wydarzenia dla Polskie Stowarzyszenie Racjonalistów
REFRESH-INTERVAL;VALUE=DURATION:PT1H
X-Robots-Tag:noindex
X-PUBLISHED-TTL:PT1H
BEGIN:VTIMEZONE
TZID:UTC
BEGIN:STANDARD
TZOFFSETFROM:+0000
TZOFFSETTO:+0000
TZNAME:UTC
DTSTART:20230101T000000
END:STANDARD
END:VTIMEZONE
BEGIN:VEVENT
DTSTART;VALUE=DATE:20230720
DTEND;VALUE=DATE:20230721
DTSTAMP:20260420T021451
CREATED:20230201T130401Z
LAST-MODIFIED:20230201T130401Z
UID:5767-1689811200-1689897599@www.psr.org.pl
SUMMARY:1976 Pierwszy obiekt stworzony przez człowieka wylądował na powierzchni Marsa. Była to amerykańska sonda Viking 1
DESCRIPTION:1976 На поверхню Марса приземлився перший рукотворний об’єкт – американський зонд «Вікінг-1»
URL:https://www.psr.org.pl/wydarzenie/1976-pierwszy-obiekt-stworzony-przez-czlowieka-wyladowal-na-powierzchni-marsa-byla-to-amerykanska-sonda-viking-1-2/
END:VEVENT
END:VCALENDAR