BEGIN:VCALENDAR
VERSION:2.0
PRODID:-//Polskie Stowarzyszenie Racjonalistów - ECPv5.16.3.1//NONSGML v1.0//EN
CALSCALE:GREGORIAN
METHOD:PUBLISH
X-ORIGINAL-URL:https://www.psr.org.pl
X-WR-CALDESC:Wydarzenia dla Polskie Stowarzyszenie Racjonalistów
REFRESH-INTERVAL;VALUE=DURATION:PT1H
X-Robots-Tag:noindex
X-PUBLISHED-TTL:PT1H
BEGIN:VTIMEZONE
TZID:UTC
BEGIN:STANDARD
TZOFFSETFROM:+0000
TZOFFSETTO:+0000
TZNAME:UTC
DTSTART:20230101T000000
END:STANDARD
END:VTIMEZONE
BEGIN:VEVENT
DTSTART;VALUE=DATE:20230722
DTEND;VALUE=DATE:20230723
DTSTAMP:20260420T034749
CREATED:20230201T130459Z
LAST-MODIFIED:20230201T130459Z
UID:5771-1689984000-1690070399@www.psr.org.pl
SUMMARY:1972 Sonda Wenera 8 wylądowała na Wenus i przez 50 minut i 11 sekund działała na powierzchni planety
DESCRIPTION:1972 Зонд «Венера-8» приземлилася на Венері і протягом 50 хвилин і 11 секунд пропрацював на її поверхні
URL:https://www.psr.org.pl/wydarzenie/1972-sonda-wenera-8-wyladowala-na-wenus-i-przez-50-minut-i-11-sekund-dzialala-na-powierzchni-planety-2/
END:VEVENT
END:VCALENDAR