BEGIN:VCALENDAR
VERSION:2.0
PRODID:-//Polskie Stowarzyszenie Racjonalistów - ECPv5.16.3.1//NONSGML v1.0//EN
CALSCALE:GREGORIAN
METHOD:PUBLISH
X-ORIGINAL-URL:https://www.psr.org.pl
X-WR-CALDESC:Wydarzenia dla Polskie Stowarzyszenie Racjonalistów
REFRESH-INTERVAL;VALUE=DURATION:PT1H
X-Robots-Tag:noindex
X-PUBLISHED-TTL:PT1H
BEGIN:VTIMEZONE
TZID:UTC
BEGIN:STANDARD
TZOFFSETFROM:+0000
TZOFFSETTO:+0000
TZNAME:UTC
DTSTART:20230101T000000
END:STANDARD
END:VTIMEZONE
BEGIN:VEVENT
DTSTART;VALUE=DATE:20230727
DTEND;VALUE=DATE:20230728
DTSTAMP:20260420T034755
CREATED:20230201T130743Z
LAST-MODIFIED:20230201T130743Z
UID:5781-1690416000-1690502399@www.psr.org.pl
SUMMARY:1949 Dokonano oblotu pierwszego odrzutowego samolotu pasażerskiego\, de Havilland Comet
DESCRIPTION:1949 Здійснено перший політ реактивного пасажирського літака – de Havilland Comet
URL:https://www.psr.org.pl/wydarzenie/1949-dokonano-oblotu-pierwszego-odrzutowego-samolotu-pasazerskiego-de-havilland-comet-2/
END:VEVENT
END:VCALENDAR