BEGIN:VCALENDAR
VERSION:2.0
PRODID:-//Polskie Stowarzyszenie Racjonalistów - ECPv5.16.3.1//NONSGML v1.0//EN
CALSCALE:GREGORIAN
METHOD:PUBLISH
X-ORIGINAL-URL:https://www.psr.org.pl
X-WR-CALDESC:Wydarzenia dla Polskie Stowarzyszenie Racjonalistów
REFRESH-INTERVAL;VALUE=DURATION:PT1H
X-Robots-Tag:noindex
X-PUBLISHED-TTL:PT1H
BEGIN:VTIMEZONE
TZID:UTC
BEGIN:STANDARD
TZOFFSETFROM:+0000
TZOFFSETTO:+0000
TZNAME:UTC
DTSTART:20230101T000000
END:STANDARD
END:VTIMEZONE
BEGIN:VEVENT
DTSTART;VALUE=DATE:20230728
DTEND;VALUE=DATE:20230729
DTSTAMP:20260420T021538
CREATED:20230201T130811Z
LAST-MODIFIED:20230201T130811Z
UID:5783-1690502400-1690588799@www.psr.org.pl
SUMMARY:1978 Pierwsze superszybkie pociągi TGV opuściły fabrykę Altshom w Belfort
DESCRIPTION:1978 Фабрика «Altshom» в Белфорті випустила першi надшвидкіснi потяги TGV
URL:https://www.psr.org.pl/wydarzenie/1978-pierwsze-superszybkie-pociagi-tgv-opuscily-fabryke-altshom-w-belfort-2/
END:VEVENT
END:VCALENDAR