BEGIN:VCALENDAR
VERSION:2.0
PRODID:-//Polskie Stowarzyszenie Racjonalistów - ECPv5.16.3.1//NONSGML v1.0//EN
CALSCALE:GREGORIAN
METHOD:PUBLISH
X-ORIGINAL-URL:https://www.psr.org.pl
X-WR-CALDESC:Wydarzenia dla Polskie Stowarzyszenie Racjonalistów
REFRESH-INTERVAL;VALUE=DURATION:PT1H
X-Robots-Tag:noindex
X-PUBLISHED-TTL:PT1H
BEGIN:VTIMEZONE
TZID:UTC
BEGIN:STANDARD
TZOFFSETFROM:+0000
TZOFFSETTO:+0000
TZNAME:UTC
DTSTART:20230101T000000
END:STANDARD
END:VTIMEZONE
BEGIN:VEVENT
DTSTART;VALUE=DATE:20230729
DTEND;VALUE=DATE:20230730
DTSTAMP:20260419T062707
CREATED:20230201T130857Z
LAST-MODIFIED:20230201T130857Z
UID:5785-1690588800-1690675199@www.psr.org.pl
SUMMARY:1938 Otwarto obserwatorium astronomiczno-meteorologiczne na szczycie Pop Iwan w Beskidach Wschodnich
DESCRIPTION:1938 На горі Піп Іван в Східних Бескидах відкрито астрономічно-метеорологічну обсерваторію
URL:https://www.psr.org.pl/wydarzenie/1938-otwarto-obserwatorium-astronomiczno-meteorologiczne-na-szczycie-pop-iwan-w-beskidach-wschodnich-2/
END:VEVENT
END:VCALENDAR