BEGIN:VCALENDAR
VERSION:2.0
PRODID:-//Polskie Stowarzyszenie Racjonalistów - ECPv5.16.3.1//NONSGML v1.0//EN
CALSCALE:GREGORIAN
METHOD:PUBLISH
X-WR-CALNAME:Polskie Stowarzyszenie Racjonalistów
X-ORIGINAL-URL:https://www.psr.org.pl
X-WR-CALDESC:Wydarzenia dla Polskie Stowarzyszenie Racjonalistów
REFRESH-INTERVAL;VALUE=DURATION:PT1H
X-Robots-Tag:noindex
X-PUBLISHED-TTL:PT1H
BEGIN:VTIMEZONE
TZID:UTC
BEGIN:STANDARD
TZOFFSETFROM:+0000
TZOFFSETTO:+0000
TZNAME:UTC
DTSTART:20240101T000000
END:STANDARD
END:VTIMEZONE
BEGIN:VEVENT
DTSTART;VALUE=DATE:20240702
DTEND;VALUE=DATE:20240703
DTSTAMP:20260419T050020
CREATED:20240320T142108Z
LAST-MODIFIED:20240320T142108Z
UID:7428-1719878400-1719964799@www.psr.org.pl
SUMMARY:1900 Wzniósł się w powietrze pierwszy sterowiec zaprojektowany przez Ferdinanda von Zeppelina
DESCRIPTION:1900 У повітря піднявся перший дирижабль\, сконструйований Фердинандом фон Цеппеліном
URL:https://www.psr.org.pl/wydarzenie/1900-wzniosl-sie-w-powietrze-pierwszy-sterowiec-zaprojektowany-przez-ferdinanda-von-zeppelina/
END:VEVENT
END:VCALENDAR