BEGIN:VCALENDAR
VERSION:2.0
PRODID:-//Polskie Stowarzyszenie Racjonalistów - ECPv5.16.3.1//NONSGML v1.0//EN
CALSCALE:GREGORIAN
METHOD:PUBLISH
X-WR-CALNAME:Polskie Stowarzyszenie Racjonalistów
X-ORIGINAL-URL:https://www.psr.org.pl
X-WR-CALDESC:Wydarzenia dla Polskie Stowarzyszenie Racjonalistów
REFRESH-INTERVAL;VALUE=DURATION:PT1H
X-Robots-Tag:noindex
X-PUBLISHED-TTL:PT1H
BEGIN:VTIMEZONE
TZID:UTC
BEGIN:STANDARD
TZOFFSETFROM:+0000
TZOFFSETTO:+0000
TZNAME:UTC
DTSTART:20240101T000000
END:STANDARD
END:VTIMEZONE
BEGIN:VEVENT
DTSTART;VALUE=DATE:20240806
DTEND;VALUE=DATE:20240807
DTSTAMP:20260419T220044
CREATED:20240320T144805Z
LAST-MODIFIED:20240320T144805Z
UID:7510-1722902400-1722988799@www.psr.org.pl
SUMMARY:1991 Tim Berners-Lee upublicznił projekt WorldWideWeb\, zapoczątkowując istnienie sieci WWW
DESCRIPTION:1991 Тім Бернерс-Лі оприлюднив проект WorldWideWeb\, чим поклав початок Всесвітній павутині WWW
URL:https://www.psr.org.pl/wydarzenie/1991-tim-berners-lee-upublicznil-projekt-worldwideweb-zapoczatkowujac-istnienie-sieci-www/
END:VEVENT
END:VCALENDAR