BEGIN:VCALENDAR
VERSION:2.0
PRODID:-//Polskie Stowarzyszenie Racjonalistów - ECPv5.16.3.1//NONSGML v1.0//EN
CALSCALE:GREGORIAN
METHOD:PUBLISH
X-WR-CALNAME:Polskie Stowarzyszenie Racjonalistów
X-ORIGINAL-URL:https://www.psr.org.pl
X-WR-CALDESC:Wydarzenia dla Polskie Stowarzyszenie Racjonalistów
REFRESH-INTERVAL;VALUE=DURATION:PT1H
X-Robots-Tag:noindex
X-PUBLISHED-TTL:PT1H
BEGIN:VTIMEZONE
TZID:UTC
BEGIN:STANDARD
TZOFFSETFROM:+0000
TZOFFSETTO:+0000
TZNAME:UTC
DTSTART:20240101T000000
END:STANDARD
END:VTIMEZONE
BEGIN:VEVENT
DTSTART;VALUE=DATE:20240814
DTEND;VALUE=DATE:20240815
DTSTAMP:20260419T220000
CREATED:20240321T071130Z
LAST-MODIFIED:20240321T071130Z
UID:7533-1723593600-1723679999@www.psr.org.pl
SUMMARY:1777 Urodził się Hans Christian Ørsted\, który wykazał\, że igła kompasu odchyla się pod wpływem prądu
DESCRIPTION:1777 Народився Ганс Крістіан Ерстед\, що він першим помітив дію електричного струму на магнітну стрілку
URL:https://www.psr.org.pl/wydarzenie/1777-urodzil-sie-hans-christian-orsted-ktory-wykazal-ze-igla-kompasu-odchyla-sie-pod-wplywem-pradu-2-2/
END:VEVENT
END:VCALENDAR