BEGIN:VCALENDAR
VERSION:2.0
PRODID:-//Polskie Stowarzyszenie Racjonalistów - ECPv5.16.3.1//NONSGML v1.0//EN
CALSCALE:GREGORIAN
METHOD:PUBLISH
X-WR-CALNAME:Polskie Stowarzyszenie Racjonalistów
X-ORIGINAL-URL:https://www.psr.org.pl
X-WR-CALDESC:Wydarzenia dla Polskie Stowarzyszenie Racjonalistów
REFRESH-INTERVAL;VALUE=DURATION:PT1H
X-Robots-Tag:noindex
X-PUBLISHED-TTL:PT1H
BEGIN:VTIMEZONE
TZID:UTC
BEGIN:STANDARD
TZOFFSETFROM:+0000
TZOFFSETTO:+0000
TZNAME:UTC
DTSTART:20240101T000000
END:STANDARD
END:VTIMEZONE
BEGIN:VEVENT
DTSTART;VALUE=DATE:20240818
DTEND;VALUE=DATE:20240819
DTSTAMP:20260420T024412
CREATED:20240321T071604Z
LAST-MODIFIED:20240321T071604Z
UID:7548-1723939200-1724025599@www.psr.org.pl
SUMMARY:1868 Pierre Janssen odkrył hel\, obserwując koronę Słońca podczas zaćmienia
DESCRIPTION:1868 Спостерігаючи корону Сонця під час затемнення\, П’єр Жансен відкрив гелій
URL:https://www.psr.org.pl/wydarzenie/1868-pierre-janssen-odkryl-hel-obserwujac-korone-slonca-podczas-zacmienia-2-2/
END:VEVENT
END:VCALENDAR