BEGIN:VCALENDAR
VERSION:2.0
PRODID:-//Polskie Stowarzyszenie Racjonalistów - ECPv5.16.3.1//NONSGML v1.0//EN
CALSCALE:GREGORIAN
METHOD:PUBLISH
X-ORIGINAL-URL:https://www.psr.org.pl
X-WR-CALDESC:Wydarzenia dla Polskie Stowarzyszenie Racjonalistów
REFRESH-INTERVAL;VALUE=DURATION:PT1H
X-Robots-Tag:noindex
X-PUBLISHED-TTL:PT1H
BEGIN:VTIMEZONE
TZID:UTC
BEGIN:STANDARD
TZOFFSETFROM:+0000
TZOFFSETTO:+0000
TZNAME:UTC
DTSTART:20240101T000000
END:STANDARD
END:VTIMEZONE
BEGIN:VEVENT
DTSTART;VALUE=DATE:20240911
DTEND;VALUE=DATE:20240912
DTSTAMP:20260419T053727
CREATED:20240321T092429Z
LAST-MODIFIED:20240321T092429Z
UID:7598-1726012800-1726099199@www.psr.org.pl
SUMMARY:1981 Zwodowano okręt hydrograficzny ORP „Heweliusz”
DESCRIPTION:1981 Спущено на воду перший гідрографічний дослідницький корабель ВМС Польщі „Heweliusz”.
URL:https://www.psr.org.pl/wydarzenie/1981-zwodowano-okret-hydrograficzny-orp-heweliusz-2-2/
END:VEVENT
END:VCALENDAR