BEGIN:VCALENDAR
VERSION:2.0
PRODID:-//Polskie Stowarzyszenie Racjonalistów - ECPv5.16.3.1//NONSGML v1.0//EN
CALSCALE:GREGORIAN
METHOD:PUBLISH
X-WR-CALNAME:Polskie Stowarzyszenie Racjonalistów
X-ORIGINAL-URL:https://www.psr.org.pl
X-WR-CALDESC:Wydarzenia dla Polskie Stowarzyszenie Racjonalistów
REFRESH-INTERVAL;VALUE=DURATION:PT1H
X-Robots-Tag:noindex
X-PUBLISHED-TTL:PT1H
BEGIN:VTIMEZONE
TZID:UTC
BEGIN:STANDARD
TZOFFSETFROM:+0000
TZOFFSETTO:+0000
TZNAME:UTC
DTSTART:20240101T000000
END:STANDARD
END:VTIMEZONE
BEGIN:VEVENT
DTSTART;VALUE=DATE:20240912
DTEND;VALUE=DATE:20240913
DTSTAMP:20260419T233213
CREATED:20240321T092516Z
LAST-MODIFIED:20240321T092516Z
UID:7597-1726099200-1726185599@www.psr.org.pl
SUMMARY:1940 Odkryto paleolityczne malowidła naskalne w jaskini Lascaux we Francji
DESCRIPTION:1940 Відкрито наскельний палеолітичний живопис у печері Ласко\, Франція
URL:https://www.psr.org.pl/wydarzenie/1940-odkryto-paleolityczne-malowidla-naskalne-w-jaskini-lascaux-we-francji-2-2/
END:VEVENT
END:VCALENDAR