BEGIN:VCALENDAR
VERSION:2.0
PRODID:-//Polskie Stowarzyszenie Racjonalistów - ECPv5.16.3.1//NONSGML v1.0//EN
CALSCALE:GREGORIAN
METHOD:PUBLISH
X-WR-CALNAME:Polskie Stowarzyszenie Racjonalistów
X-ORIGINAL-URL:https://www.psr.org.pl
X-WR-CALDESC:Wydarzenia dla Polskie Stowarzyszenie Racjonalistów
REFRESH-INTERVAL;VALUE=DURATION:PT1H
X-Robots-Tag:noindex
X-PUBLISHED-TTL:PT1H
BEGIN:VTIMEZONE
TZID:UTC
BEGIN:STANDARD
TZOFFSETFROM:+0000
TZOFFSETTO:+0000
TZNAME:UTC
DTSTART:20240101T000000
END:STANDARD
END:VTIMEZONE
BEGIN:VEVENT
DTSTART;VALUE=DATE:20240913
DTEND;VALUE=DATE:20240914
DTSTAMP:20260419T233320
CREATED:20240321T092534Z
LAST-MODIFIED:20240321T092534Z
UID:7596-1726185600-1726271999@www.psr.org.pl
SUMMARY:1921 Urodził się Stanisław Lem\, autor „Bajek Robotów”\, „Cyberiady” i „Solaris”
DESCRIPTION:1921 Народився Станіслав Лем\, автор „Казок роботів”\, „Кіберіади” та „Соляріса”
URL:https://www.psr.org.pl/wydarzenie/1921-urodzil-sie-stanislaw-lem-autor-bajek-robotow-cyberiady-i-solaris-2-2/
END:VEVENT
END:VCALENDAR