BEGIN:VCALENDAR
VERSION:2.0
PRODID:-//Polskie Stowarzyszenie Racjonalistów - ECPv5.16.3.1//NONSGML v1.0//EN
CALSCALE:GREGORIAN
METHOD:PUBLISH
X-ORIGINAL-URL:https://www.psr.org.pl
X-WR-CALDESC:Wydarzenia dla Polskie Stowarzyszenie Racjonalistów
REFRESH-INTERVAL;VALUE=DURATION:PT1H
X-Robots-Tag:noindex
X-PUBLISHED-TTL:PT1H
BEGIN:VTIMEZONE
TZID:UTC
BEGIN:STANDARD
TZOFFSETFROM:+0000
TZOFFSETTO:+0000
TZNAME:UTC
DTSTART:20240101T000000
END:STANDARD
END:VTIMEZONE
BEGIN:VEVENT
DTSTART;VALUE=DATE:20240917
DTEND;VALUE=DATE:20240918
DTSTAMP:20260419T233514
CREATED:20240321T092838Z
LAST-MODIFIED:20240321T092838Z
UID:7611-1726531200-1726617599@www.psr.org.pl
SUMMARY:1789 William Herschel odkrył Mimasa\, jeden z księżyców Saturna
DESCRIPTION:1789 Вільям Гершель відкрив один із супутників Сатурна – Мімас
URL:https://www.psr.org.pl/wydarzenie/1789-william-herschel-odkryl-mimasa-jeden-z-ksiezycow-saturna-2-2/
END:VEVENT
END:VCALENDAR