BEGIN:VCALENDAR
VERSION:2.0
PRODID:-//Polskie Stowarzyszenie Racjonalistów - ECPv5.16.3.1//NONSGML v1.0//EN
CALSCALE:GREGORIAN
METHOD:PUBLISH
X-ORIGINAL-URL:https://www.psr.org.pl
X-WR-CALDESC:Wydarzenia dla Polskie Stowarzyszenie Racjonalistów
REFRESH-INTERVAL;VALUE=DURATION:PT1H
X-Robots-Tag:noindex
X-PUBLISHED-TTL:PT1H
BEGIN:VTIMEZONE
TZID:UTC
BEGIN:STANDARD
TZOFFSETFROM:+0000
TZOFFSETTO:+0000
TZNAME:UTC
DTSTART:20240101T000000
END:STANDARD
END:VTIMEZONE
BEGIN:VEVENT
DTSTART;VALUE=DATE:20240919
DTEND;VALUE=DATE:20240920
DTSTAMP:20260420T010333
CREATED:20240321T092929Z
LAST-MODIFIED:20240321T092929Z
UID:7609-1726704000-1726790399@www.psr.org.pl
SUMMARY:1959 Rozpoczął się program SETI\, mający na celu poszukiwanie pozaziemskich cywilizacji
DESCRIPTION:1959 Стартувала програма SETI – проєкт із пошуку позаземних цивілізацій
URL:https://www.psr.org.pl/wydarzenie/1959-rozpoczal-sie-program-seti-majacy-na-celu-poszukiwanie-pozaziemskich-cywilizacjii-2-2/
END:VEVENT
END:VCALENDAR