BEGIN:VCALENDAR
VERSION:2.0
PRODID:-//Polskie Stowarzyszenie Racjonalistów - ECPv5.16.3.1//NONSGML v1.0//EN
CALSCALE:GREGORIAN
METHOD:PUBLISH
X-ORIGINAL-URL:https://www.psr.org.pl
X-WR-CALDESC:Wydarzenia dla Polskie Stowarzyszenie Racjonalistów
REFRESH-INTERVAL;VALUE=DURATION:PT1H
X-Robots-Tag:noindex
X-PUBLISHED-TTL:PT1H
BEGIN:VTIMEZONE
TZID:UTC
BEGIN:STANDARD
TZOFFSETFROM:+0000
TZOFFSETTO:+0000
TZNAME:UTC
DTSTART:20240101T000000
END:STANDARD
END:VTIMEZONE
BEGIN:VEVENT
DTSTART;VALUE=DATE:20240922
DTEND;VALUE=DATE:20240923
DTSTAMP:20260420T011322
CREATED:20240321T094132Z
LAST-MODIFIED:20240321T094132Z
UID:7624-1726963200-1727049599@www.psr.org.pl
SUMMARY:1953 Na Uniwersytecie Illinois uruchomiono komputer ILLIAC 1
DESCRIPTION:1953 В Іллінойському університеті запущено комп’ютер ILLIAC 1
URL:https://www.psr.org.pl/wydarzenie/1953-na-uniwersytecie-illinois-uruchomiono-komputer-illiac-1-2-2/
END:VEVENT
END:VCALENDAR