BEGIN:VCALENDAR
VERSION:2.0
PRODID:-//Polskie Stowarzyszenie Racjonalistów - ECPv5.16.3.1//NONSGML v1.0//EN
CALSCALE:GREGORIAN
METHOD:PUBLISH
X-ORIGINAL-URL:https://www.psr.org.pl
X-WR-CALDESC:Wydarzenia dla Polskie Stowarzyszenie Racjonalistów
REFRESH-INTERVAL;VALUE=DURATION:PT1H
X-Robots-Tag:noindex
X-PUBLISHED-TTL:PT1H
BEGIN:VTIMEZONE
TZID:UTC
BEGIN:STANDARD
TZOFFSETFROM:+0000
TZOFFSETTO:+0000
TZNAME:UTC
DTSTART:20240101T000000
END:STANDARD
END:VTIMEZONE
BEGIN:VEVENT
DTSTART;VALUE=DATE:20241206
DTEND;VALUE=DATE:20241207
DTSTAMP:20260423T094458
CREATED:20240321T115009Z
LAST-MODIFIED:20240321T115009Z
UID:7783-1733443200-1733529599@www.psr.org.pl
SUMMARY:1912 Archeolog Ludwig Borchardt odnalazł w Tell el-Amarna popiersie królowej Nefertiti
DESCRIPTION:1912 Під час розкопок в Ель-Амарні археолог Людвіг Борхардт знайшов бюст Нефертіті
URL:https://www.psr.org.pl/wydarzenie/1912-archeolog-ludwig-borchardt-odnalazl-w-tell-el-amarna-popiersie-krolowej-nefertiti-2-2/
END:VEVENT
END:VCALENDAR